BEGIN:VCALENDAR
VERSION:2.0
PRODID:icalendar-ruby
CALSCALE:GREGORIAN
METHOD:PUBLISH
BEGIN:VEVENT
DTSTAMP:20260419T171413Z
UID:5-397132@summitrestoration.tithelysetup2.com
DTSTART:20260802T150000Z
DTEND:20260802T160000Z
CLASS:PUBLIC
CREATED:20260419T083325
DESCRIPTION:Sunday Worship
LAST-MODIFIED:20260419T083325
LOCATION:
SUMMARY:Sunday Worship
URL;VALUE=URI:https://www.summitrc.org/events/sunday-worship/2026-08-02
END:VEVENT
END:VCALENDAR
