BEGIN:VCALENDAR
VERSION:2.0
PRODID:icalendar-ruby
CALSCALE:GREGORIAN
METHOD:PUBLISH
BEGIN:VEVENT
DTSTAMP:20260419T190510Z
UID:5-397393@summitrestoration.tithelysetup2.com
DTSTART:20260809T150000Z
DTEND:20260809T160000Z
CLASS:PUBLIC
CREATED:20260419T121524
DESCRIPTION:Sunday Worship
LAST-MODIFIED:20260419T121524
LOCATION:
SUMMARY:Sunday Worship
URL;VALUE=URI:https://www.summitrc.org/events/sunday-worship/2026-08-09
END:VEVENT
END:VCALENDAR
