BEGIN:VCALENDAR
VERSION:2.0
PRODID:icalendar-ruby
CALSCALE:GREGORIAN
METHOD:PUBLISH
BEGIN:VEVENT
DTSTAMP:20260420T143541Z
UID:5-398702@summitrestoration.tithelysetup2.com
DTSTART:20260823T150000Z
DTEND:20260823T160000Z
CLASS:PUBLIC
CREATED:20260420T072827
DESCRIPTION:Sunday Worship
LAST-MODIFIED:20260420T072827
LOCATION:
SUMMARY:Sunday Worship
URL;VALUE=URI:https://www.summitrc.org/events/sunday-worship/2026-08-23
END:VEVENT
END:VCALENDAR
