BEGIN:VCALENDAR
VERSION:2.0
PRODID:icalendar-ruby
CALSCALE:GREGORIAN
METHOD:PUBLISH
BEGIN:VEVENT
DTSTAMP:20260421T044932Z
UID:5-400011@summitrestoration.tithelysetup2.com
DTSTART:20260920T150000Z
DTEND:20260920T160000Z
CLASS:PUBLIC
CREATED:20260420T202155
DESCRIPTION:Sunday Worship
LAST-MODIFIED:20260420T202155
LOCATION:
SUMMARY:Sunday Worship
URL;VALUE=URI:https://www.summitrc.org/events/sunday-worship/2026-09-20
END:VEVENT
END:VCALENDAR
