BEGIN:VCALENDAR
VERSION:2.0
PRODID:icalendar-ruby
CALSCALE:GREGORIAN
METHOD:PUBLISH
BEGIN:VEVENT
DTSTAMP:20260421T124041Z
UID:5-400277@summitrestoration.tithelysetup2.com
DTSTART:20261025T150000Z
DTEND:20261025T160000Z
CLASS:PUBLIC
CREATED:20260421T072931
DESCRIPTION:Sunday Worship
LAST-MODIFIED:20260421T072931
LOCATION:
SUMMARY:Sunday Worship
URL;VALUE=URI:https://www.summitrc.org/events/sunday-worship/2026-10-25
END:VEVENT
END:VCALENDAR
